BEGIN:VCALENDAR
VERSION:2.0
PRODID:-//Branford Land Trust - ECPv6.15.20//NONSGML v1.0//EN
CALSCALE:GREGORIAN
METHOD:PUBLISH
X-ORIGINAL-URL:https://branfordlandtrust.org
X-WR-CALDESC:Events for Branford Land Trust
REFRESH-INTERVAL;VALUE=DURATION:PT1H
X-Robots-Tag:noindex
X-PUBLISHED-TTL:PT1H
BEGIN:VTIMEZONE
TZID:America/New_York
BEGIN:DAYLIGHT
TZOFFSETFROM:-0500
TZOFFSETTO:-0400
TZNAME:EDT
DTSTART:20210314T070000
END:DAYLIGHT
BEGIN:STANDARD
TZOFFSETFROM:-0400
TZOFFSETTO:-0500
TZNAME:EST
DTSTART:20211107T060000
END:STANDARD
BEGIN:DAYLIGHT
TZOFFSETFROM:-0500
TZOFFSETTO:-0400
TZNAME:EDT
DTSTART:20220313T070000
END:DAYLIGHT
BEGIN:STANDARD
TZOFFSETFROM:-0400
TZOFFSETTO:-0500
TZNAME:EST
DTSTART:20221106T060000
END:STANDARD
BEGIN:DAYLIGHT
TZOFFSETFROM:-0500
TZOFFSETTO:-0400
TZNAME:EDT
DTSTART:20230312T070000
END:DAYLIGHT
BEGIN:STANDARD
TZOFFSETFROM:-0400
TZOFFSETTO:-0500
TZNAME:EST
DTSTART:20231105T060000
END:STANDARD
END:VTIMEZONE
BEGIN:VEVENT
DTSTART;TZID=America/New_York:20221113T140000
DTEND;TZID=America/New_York:20221113T160000
DTSTAMP:20260420T141932
CREATED:20221019T144837Z
LAST-MODIFIED:20221019T144852Z
UID:5025-1668348000-1668355200@branfordlandtrust.org
SUMMARY:Book Launch & Art Reception\, Writing the Land: Windblown I
DESCRIPTION:A Creative Project from the Branford Land Trust & the Branford Arts and Cultural Alliance  \nYou don’t want to miss this special Book Launch and Art Reception for Writing the Land: Windblown I on Sunday\, November 13 from 2:00 p.m. – 4:00 p.m. The event is hosted by the Branford Land Trust and the Branford Arts and Cultural Alliance\, and will be held at the BACA Gallery in downtown Branford. Poet Laurel Peterson will read a selection of her poems about Branford’s Beacon Hill Preserve\, and the book’s featured artwork by BLT and BACA members will be on display.
URL:https://branfordlandtrust.org/event/writing-the-land-windblown-i-book-launch-art-reception/
LOCATION:BACA Gallery\, 1004 Main Street\, Branford\, CT\, 06405\, United States
CATEGORIES:Event
END:VEVENT
BEGIN:VEVENT
DTSTART;TZID=America/New_York:20221119T140000
DTEND;TZID=America/New_York:20221119T160000
DTSTAMP:20260420T141932
CREATED:20221004T121650Z
LAST-MODIFIED:20221004T121650Z
UID:4988-1668866400-1668873600@branfordlandtrust.org
SUMMARY:Writing the Land: Windblown I Online Poetry Reading
DESCRIPTION:November 19\nPOETRY READINGS & BOOK LAUNCH\nSaturday\, 2 p.m. \nWatch for details about this virtual book launch for Writing the Land: Windblown I\, an anthology featuring the work of poets writing about conserved lands for 11 land trusts across the country. Branford Land Trust’s poet\, Laurel Peterson\, and 15 others\, will read at least one of their poems in recordings made mostly out on the lands themselves. These are interspersed with short videos featuring the land trusts and the work they do. All proceeds from the sales of Writing the Land: Windblown I benefit the BLT. Watch the Branford Land Trust website for more information.
URL:https://branfordlandtrust.org/event/writing-the-land-windblown-i-online-poetry-reading/
LOCATION:CT
CATEGORIES:Event
END:VEVENT
END:VCALENDAR