BEGIN:VCALENDAR
VERSION:2.0
PRODID:-//Branford Land Trust - ECPv6.15.20//NONSGML v1.0//EN
CALSCALE:GREGORIAN
METHOD:PUBLISH
X-WR-CALNAME:Branford Land Trust
X-ORIGINAL-URL:https://branfordlandtrust.org
X-WR-CALDESC:Events for Branford Land Trust
REFRESH-INTERVAL;VALUE=DURATION:PT1H
X-Robots-Tag:noindex
X-PUBLISHED-TTL:PT1H
BEGIN:VTIMEZONE
TZID:America/New_York
BEGIN:DAYLIGHT
TZOFFSETFROM:-0500
TZOFFSETTO:-0400
TZNAME:EDT
DTSTART:20210314T070000
END:DAYLIGHT
BEGIN:STANDARD
TZOFFSETFROM:-0400
TZOFFSETTO:-0500
TZNAME:EST
DTSTART:20211107T060000
END:STANDARD
BEGIN:DAYLIGHT
TZOFFSETFROM:-0500
TZOFFSETTO:-0400
TZNAME:EDT
DTSTART:20220313T070000
END:DAYLIGHT
BEGIN:STANDARD
TZOFFSETFROM:-0400
TZOFFSETTO:-0500
TZNAME:EST
DTSTART:20221106T060000
END:STANDARD
BEGIN:DAYLIGHT
TZOFFSETFROM:-0500
TZOFFSETTO:-0400
TZNAME:EDT
DTSTART:20230312T070000
END:DAYLIGHT
BEGIN:STANDARD
TZOFFSETFROM:-0400
TZOFFSETTO:-0500
TZNAME:EST
DTSTART:20231105T060000
END:STANDARD
END:VTIMEZONE
BEGIN:VEVENT
DTSTART;TZID=America/New_York:20220507T090000
DTEND;TZID=America/New_York:20220507T110000
DTSTAMP:20260420T040508
CREATED:20220420T120015Z
LAST-MODIFIED:20220420T120015Z
UID:4819-1651914000-1651921200@branfordlandtrust.org
SUMMARY:Annual Spring Bird Walk
DESCRIPTION:The Branford Land Trust is hosting two spring bird walks on Mother’s Day weekend\, Saturday\, May 7 and Sunday\, May 8 beginning at 9:00 a.m. Local birder Chris Woerner will lead these popular walks along the Stony Creek Trolley Trail and into the Land Trust’s Vedder property. Chris will help us identify the birds by sight and by call. It should be a fun and exciting walk for both adults and families\, rain or shine. \nThe event is free and open to the public. We’ll meet in Stony Creek at the far end of West Point Rd. across from the Willoughby Wallace Library. You can choose the day that fits best into your schedule\, or for birding enthusiasts\, you can even come both days-since the birds we sight will vary on each day. Mostly flat terrain with one steep\, rocky hill. Families are welcome\, but no dogs please. \nWe’ll abide by current COVID precautions at the time of the walk. Please wear appropriate dress and comfortable\, supportive walking shoes. Bring water. Walking sticks welcome. \n 
URL:https://branfordlandtrust.org/event/annual-spring-bird-walk/
LOCATION:Stony Creek Trolley Trail\, West Point Road\, Branford\, CT\, 06405\, United States
CATEGORIES:Event
ORGANIZER;CN="Branford Land Trust":MAILTO:info@branfordlandtrust.org
END:VEVENT
BEGIN:VEVENT
DTSTART;TZID=America/New_York:20220508T090000
DTEND;TZID=America/New_York:20220508T110000
DTSTAMP:20260420T040508
CREATED:20220420T120109Z
LAST-MODIFIED:20220420T120109Z
UID:4821-1652000400-1652007600@branfordlandtrust.org
SUMMARY:Annual Spring Bird Walk
DESCRIPTION:The Branford Land Trust is hosting two spring bird walks on Mother’s Day weekend\, Saturday\, May 7 and Sunday\, May 8 beginning at 9:00 a.m. Local birder Chris Woerner will lead these popular walks along the Stony Creek Trolley Trail and into the Land Trust’s Vedder property. Chris will help us identify the birds by sight and by call. It should be a fun and exciting walk for both adults and families\, rain or shine. \nThe event is free and open to the public. We’ll meet in Stony Creek at the far end of West Point Rd. across from the Willoughby Wallace Library. You can choose the day that fits best into your schedule\, or for birding enthusiasts\, you can even come both days-since the birds we sight will vary on each day. Mostly flat terrain with one steep\, rocky hill. Families are welcome\, but no dogs please. \nWe’ll abide by current COVID precautions at the time of the walk. Please wear appropriate dress and comfortable\, supportive walking shoes. Bring water. Walking sticks welcome. \n 
URL:https://branfordlandtrust.org/event/annual-spring-bird-walk-2/
LOCATION:Stony Creek Trolley Trail\, West Point Road\, Branford\, CT\, 06405\, United States
CATEGORIES:Event
ORGANIZER;CN="Branford Land Trust":MAILTO:info@branfordlandtrust.org
END:VEVENT
BEGIN:VEVENT
DTSTART;TZID=America/New_York:20220523T180000
DTEND;TZID=America/New_York:20220523T200000
DTSTAMP:20260420T040508
CREATED:20220516T140243Z
LAST-MODIFIED:20220519T162229Z
UID:4829-1653328800-1653336000@branfordlandtrust.org
SUMMARY:BLT Annual Meeting
DESCRIPTION:Join us for our Annual Meeting on Monday\, May 23 beginning at 6:00 p.m. via Zoom featuring Gerald Torres\, Professor of Environmental Justice\, Yale School of the Environment. His presentation on the implications of environmental justice for conservation land trusts will follow a brief business meeting and the election of officers and directors. Click here for more information.
URL:https://branfordlandtrust.org/event/blt-annual-meeting-2/
LOCATION:CT
CATEGORIES:Event
END:VEVENT
BEGIN:VEVENT
DTSTART;TZID=America/New_York:20220524T190000
DTEND;TZID=America/New_York:20220524T200000
DTSTAMP:20260420T040508
CREATED:20220516T140436Z
LAST-MODIFIED:20220516T140436Z
UID:4831-1653418800-1653422400@branfordlandtrust.org
SUMMARY:Horseshoe Crab Program
DESCRIPTION:Horseshoe Crab Program\nMay 24\, 2022 at 7:00 p.m.\nLoves Beach\, Killam’s Point Conference Center\n \nJoin this co-sponsored program with the First Congregational Church of Branford and the Branford Land Trust led by Martha Rice to learn about the ecology and importance of Horseshoe crabs in our lives today.  This program is open to the public\, but registration is required.  Please email info@killamspoint.org to register.
URL:https://branfordlandtrust.org/event/horseshoe-crab-program/
LOCATION:CT
CATEGORIES:Event
END:VEVENT
END:VCALENDAR