BEGIN:VCALENDAR
VERSION:2.0
PRODID:-//Branford Land Trust - ECPv6.15.20//NONSGML v1.0//EN
CALSCALE:GREGORIAN
METHOD:PUBLISH
X-ORIGINAL-URL:https://branfordlandtrust.org
X-WR-CALDESC:Events for Branford Land Trust
REFRESH-INTERVAL;VALUE=DURATION:PT1H
X-Robots-Tag:noindex
X-PUBLISHED-TTL:PT1H
BEGIN:VTIMEZONE
TZID:America/New_York
BEGIN:DAYLIGHT
TZOFFSETFROM:-0500
TZOFFSETTO:-0400
TZNAME:EDT
DTSTART:20210314T070000
END:DAYLIGHT
BEGIN:STANDARD
TZOFFSETFROM:-0400
TZOFFSETTO:-0500
TZNAME:EST
DTSTART:20211107T060000
END:STANDARD
BEGIN:DAYLIGHT
TZOFFSETFROM:-0500
TZOFFSETTO:-0400
TZNAME:EDT
DTSTART:20220313T070000
END:DAYLIGHT
BEGIN:STANDARD
TZOFFSETFROM:-0400
TZOFFSETTO:-0500
TZNAME:EST
DTSTART:20221106T060000
END:STANDARD
BEGIN:DAYLIGHT
TZOFFSETFROM:-0500
TZOFFSETTO:-0400
TZNAME:EDT
DTSTART:20230312T070000
END:DAYLIGHT
BEGIN:STANDARD
TZOFFSETFROM:-0400
TZOFFSETTO:-0500
TZNAME:EST
DTSTART:20231105T060000
END:STANDARD
END:VTIMEZONE
BEGIN:VEVENT
DTSTART;TZID=America/New_York:20220226T093000
DTEND;TZID=America/New_York:20220226T110000
DTSTAMP:20260419T231341
CREATED:20220108T111938Z
LAST-MODIFIED:20220108T111950Z
UID:4695-1645867800-1645873200@branfordlandtrust.org
SUMMARY:Winter Animal Tracking Classes
DESCRIPTION:Branford Land Trust Winter Animal Tracking Classes\nSaturday\, January 29 & Saturday\, February 26\n9:30am – 11:00am at Lake Saltonstall Recreational Area \nNot just a walk in the woods\, the Branford Land Trust’s popular Animal Tracking classes are led enthusiastically by naturalists Tom Cleveland and Chris Woerner each winter. Learn how to recognize animal footprints and other signs of their passage through the woods during two Animal Tracking Classes scheduled for Saturday\, January 29 and Saturday\, February 26 from 9:30 to 11am at the Lake Saltonstall Recreational Area. We’ll hope for snow\, but it will be fun even without it! This program is fun for both kids and adults. \nExpect moderate terrain\, some sloping trails and inclines\, rocky underfooting. Parents should be prepared to carry younger children if they get tired. Please wear appropriate dress and comfortable\, supportive walking shoes. Bring water. Walking sticks welcome. We’ll meet at the fishing area parking lot off of Hosley Avenue in Branford. The address is 100 Hosley Avenue and it is located approximately halfway down Hosley Avenue off of Route 1 to the south and Brushy Plain Road to the north. \nBad Weather dates: January 30 and February 27. Watch our Facebook page for possible schedule changes. For questions please call Tom Cleveland @ 203-981-9040.
URL:https://branfordlandtrust.org/event/4695/
LOCATION:Lake Saltonstall Preserve\, Hosley Avenue\, Branford\, CT\, 06405\, United States
CATEGORIES:Nature Explorer
ORGANIZER;CN="Branford Land Trust":MAILTO:info@branfordlandtrust.org
END:VEVENT
END:VCALENDAR