BEGIN:VCALENDAR
VERSION:2.0
PRODID:-//Branford Land Trust - ECPv6.15.20//NONSGML v1.0//EN
CALSCALE:GREGORIAN
METHOD:PUBLISH
X-WR-CALNAME:Branford Land Trust
X-ORIGINAL-URL:https://branfordlandtrust.org
X-WR-CALDESC:Events for Branford Land Trust
REFRESH-INTERVAL;VALUE=DURATION:PT1H
X-Robots-Tag:noindex
X-PUBLISHED-TTL:PT1H
BEGIN:VTIMEZONE
TZID:America/New_York
BEGIN:DAYLIGHT
TZOFFSETFROM:-0500
TZOFFSETTO:-0400
TZNAME:EDT
DTSTART:20210314T070000
END:DAYLIGHT
BEGIN:STANDARD
TZOFFSETFROM:-0400
TZOFFSETTO:-0500
TZNAME:EST
DTSTART:20211107T060000
END:STANDARD
BEGIN:DAYLIGHT
TZOFFSETFROM:-0500
TZOFFSETTO:-0400
TZNAME:EDT
DTSTART:20220313T070000
END:DAYLIGHT
BEGIN:STANDARD
TZOFFSETFROM:-0400
TZOFFSETTO:-0500
TZNAME:EST
DTSTART:20221106T060000
END:STANDARD
BEGIN:DAYLIGHT
TZOFFSETFROM:-0500
TZOFFSETTO:-0400
TZNAME:EDT
DTSTART:20230312T070000
END:DAYLIGHT
BEGIN:STANDARD
TZOFFSETFROM:-0400
TZOFFSETTO:-0500
TZNAME:EST
DTSTART:20231105T060000
END:STANDARD
END:VTIMEZONE
BEGIN:VEVENT
DTSTART;TZID=America/New_York:20220126T190000
DTEND;TZID=America/New_York:20220126T203000
DTSTAMP:20260419T064313
CREATED:20220113T101918Z
LAST-MODIFIED:20220113T101918Z
UID:4715-1643223600-1643229000@branfordlandtrust.org
SUMMARY:January Lecture: Betty Ann Donegan
DESCRIPTION:With climate change one of the most important issues of our time\, let’s start at home and think about how we can lower our carbon footprint right here. Using locally sourced ingredients\, local food phenom Betty Ann Donegan will teach us how to make a Vegetarian Chile and Cheese Casserole\, Cornbread with Manchego Cheese\, and a Berry Tart. This Branford Land Trust January lecture will be held on Wednesday\, January 26 at 7:00PM via Zoom.  \nTogether\, we’ll explore how to find and use locally sourced ingredients while making some delicious dishes to share with loved ones during these cold winter days. Upon registration you’ll be provided with recipes so you can follow along — and even cook along — at home! Bon Appétit! \nBetty Ann has been teaching her popular cooking classes in the Pine Orchard section of Branford for 46 years. She has written several cookbooks and was a guest chef on Connecticut Style for eight years. \nThe January program is free and open to the public\, but registration is required. Please contact Martha Rice at mhbrice@gmail.com to sign-up or for more information. Once registered\, a Zoom link will be emailed along with the recipes.
URL:https://branfordlandtrust.org/event/january-lecture-betty-ann-donegan/
LOCATION:CT
CATEGORIES:Event
ORGANIZER;CN="Branford Land Trust":MAILTO:info@branfordlandtrust.org
END:VEVENT
END:VCALENDAR