BEGIN:VCALENDAR
VERSION:2.0
PRODID:-//Branford Land Trust - ECPv6.15.20//NONSGML v1.0//EN
CALSCALE:GREGORIAN
METHOD:PUBLISH
X-ORIGINAL-URL:https://branfordlandtrust.org
X-WR-CALDESC:Events for Branford Land Trust
REFRESH-INTERVAL;VALUE=DURATION:PT1H
X-Robots-Tag:noindex
X-PUBLISHED-TTL:PT1H
BEGIN:VTIMEZONE
TZID:America/New_York
BEGIN:DAYLIGHT
TZOFFSETFROM:-0500
TZOFFSETTO:-0400
TZNAME:EDT
DTSTART:20200308T070000
END:DAYLIGHT
BEGIN:STANDARD
TZOFFSETFROM:-0400
TZOFFSETTO:-0500
TZNAME:EST
DTSTART:20201101T060000
END:STANDARD
BEGIN:DAYLIGHT
TZOFFSETFROM:-0500
TZOFFSETTO:-0400
TZNAME:EDT
DTSTART:20210314T070000
END:DAYLIGHT
BEGIN:STANDARD
TZOFFSETFROM:-0400
TZOFFSETTO:-0500
TZNAME:EST
DTSTART:20211107T060000
END:STANDARD
BEGIN:DAYLIGHT
TZOFFSETFROM:-0500
TZOFFSETTO:-0400
TZNAME:EDT
DTSTART:20220313T070000
END:DAYLIGHT
BEGIN:STANDARD
TZOFFSETFROM:-0400
TZOFFSETTO:-0500
TZNAME:EST
DTSTART:20221106T060000
END:STANDARD
END:VTIMEZONE
BEGIN:VEVENT
DTSTART;TZID=America/New_York:20211128T130000
DTEND;TZID=America/New_York:20211128T143000
DTSTAMP:20260419T174334
CREATED:20211118T094215Z
LAST-MODIFIED:20211118T094215Z
UID:4679-1638104400-1638109800@branfordlandtrust.org
SUMMARY:Thanksgiving Weekend Walk
DESCRIPTION:Join the Branford Land Trust on Sunday\, November 28 at 1:00 PM for this traditional Thanksgiving hike at Van Wie Woods\, exploring fields\, woodlands\, streams\, and granite outcrops of the 100 acres donated by two generations of the Van Wie family. We’ll be joined by several local naturalists and members of the Branford High School Land Conservation Club. It’s a great opportunity to enjoy the outdoors and refreshing fall weather with friends and family you might not have seen for a while. (Read More)
URL:https://branfordlandtrust.org/event/thanksgiving-weekend-walk/
LOCATION:Van Wie Woods\, 87 Red Hill Road\, Branford\, CT\, 06405\, United States
CATEGORIES:Nature Explorer
ORGANIZER;CN="Branford Land Trust":MAILTO:info@branfordlandtrust.org
END:VEVENT
END:VCALENDAR