BEGIN:VCALENDAR
VERSION:2.0
PRODID:-//Branford Land Trust - ECPv6.15.20//NONSGML v1.0//EN
CALSCALE:GREGORIAN
METHOD:PUBLISH
X-ORIGINAL-URL:https://branfordlandtrust.org
X-WR-CALDESC:Events for Branford Land Trust
REFRESH-INTERVAL;VALUE=DURATION:PT1H
X-Robots-Tag:noindex
X-PUBLISHED-TTL:PT1H
BEGIN:VTIMEZONE
TZID:America/New_York
BEGIN:DAYLIGHT
TZOFFSETFROM:-0500
TZOFFSETTO:-0400
TZNAME:EDT
DTSTART:20180311T070000
END:DAYLIGHT
BEGIN:STANDARD
TZOFFSETFROM:-0400
TZOFFSETTO:-0500
TZNAME:EST
DTSTART:20181104T060000
END:STANDARD
BEGIN:DAYLIGHT
TZOFFSETFROM:-0500
TZOFFSETTO:-0400
TZNAME:EDT
DTSTART:20190310T070000
END:DAYLIGHT
BEGIN:STANDARD
TZOFFSETFROM:-0400
TZOFFSETTO:-0500
TZNAME:EST
DTSTART:20191103T060000
END:STANDARD
BEGIN:DAYLIGHT
TZOFFSETFROM:-0500
TZOFFSETTO:-0400
TZNAME:EDT
DTSTART:20200308T070000
END:DAYLIGHT
BEGIN:STANDARD
TZOFFSETFROM:-0400
TZOFFSETTO:-0500
TZNAME:EST
DTSTART:20201101T060000
END:STANDARD
END:VTIMEZONE
BEGIN:VEVENT
DTSTART;TZID=America/New_York:20191202T190000
DTEND;TZID=America/New_York:20191202T203000
DTSTAMP:20260421T033810
CREATED:20191111T100358Z
LAST-MODIFIED:20191111T100358Z
UID:3808-1575313200-1575318600@branfordlandtrust.org
SUMMARY:BLT Osprey Support Group Meeting
DESCRIPTION:Monday\, December 2 at 7:00PM \nYou’re invited to join us at the Sylvan Point Condominium club house for the BLT Osprey Support Group Meeting on Monday\, December 2 at 7:00PM. \nGoals: Top priority is to establish support system for Bob Bejnerowicz for his continued leadership in maintaining approximately 40 osprey nesting platforms. Second priority is to explore reestablishment of school and public education efforts. \nRefreshments will be served. \nPlease feel free to extend this invitation to any who might be interested. \nDirections: Coming past Stony Creek Brewery on Indian Neck Ave\, turn right onto Frank Street\, then right into Sylvan Point Condos. Ample parking. Club house on left.
URL:https://branfordlandtrust.org/event/blt-osprey-support-group-meeting/
LOCATION:CT
CATEGORIES:Event
ORGANIZER;CN="Branford Land Trust":MAILTO:info@branfordlandtrust.org
END:VEVENT
BEGIN:VEVENT
DTSTART;TZID=America/New_York:20191207T090000
DTEND;TZID=America/New_York:20191207T120000
DTSTAMP:20260421T033810
CREATED:20191016T103113Z
LAST-MODIFIED:20191016T103113Z
UID:3744-1575709200-1575720000@branfordlandtrust.org
SUMMARY:Work Party - Hoadley Creek Preserve
DESCRIPTION:Hoadley Creek Preserve – We will work in the Medlyn fields\, clearing along the edges and around boulders and staking the boulders to make them visible during next year’s mowing. \nGet to know some of the BLT properties and spend a little time with some great people. A great chance for school-age kids to pick up some community service credits. Additional Work Parties scheduled for November 16\, December 7\, January 18\, and February 15. For details\, call Bill Horne (203-488-6146).
URL:https://branfordlandtrust.org/event/work-party-hoadley-creek-preserve/
LOCATION:CT
CATEGORIES:Work Party
END:VEVENT
END:VCALENDAR