BEGIN:VCALENDAR
VERSION:2.0
PRODID:-//Branford Land Trust - ECPv6.15.20//NONSGML v1.0//EN
CALSCALE:GREGORIAN
METHOD:PUBLISH
X-WR-CALNAME:Branford Land Trust
X-ORIGINAL-URL:https://branfordlandtrust.org
X-WR-CALDESC:Events for Branford Land Trust
REFRESH-INTERVAL;VALUE=DURATION:PT1H
X-Robots-Tag:noindex
X-PUBLISHED-TTL:PT1H
BEGIN:VTIMEZONE
TZID:America/New_York
BEGIN:DAYLIGHT
TZOFFSETFROM:-0500
TZOFFSETTO:-0400
TZNAME:EDT
DTSTART:20180311T070000
END:DAYLIGHT
BEGIN:STANDARD
TZOFFSETFROM:-0400
TZOFFSETTO:-0500
TZNAME:EST
DTSTART:20181104T060000
END:STANDARD
BEGIN:DAYLIGHT
TZOFFSETFROM:-0500
TZOFFSETTO:-0400
TZNAME:EDT
DTSTART:20190310T070000
END:DAYLIGHT
BEGIN:STANDARD
TZOFFSETFROM:-0400
TZOFFSETTO:-0500
TZNAME:EST
DTSTART:20191103T060000
END:STANDARD
BEGIN:DAYLIGHT
TZOFFSETFROM:-0500
TZOFFSETTO:-0400
TZNAME:EDT
DTSTART:20200308T070000
END:DAYLIGHT
BEGIN:STANDARD
TZOFFSETFROM:-0400
TZOFFSETTO:-0500
TZNAME:EST
DTSTART:20201101T060000
END:STANDARD
END:VTIMEZONE
BEGIN:VEVENT
DTSTART;TZID=America/New_York:20191116T090000
DTEND;TZID=America/New_York:20191116T120000
DTSTAMP:20260421T044335
CREATED:20190927T094529Z
LAST-MODIFIED:20190927T094656Z
UID:3729-1573894800-1573905600@branfordlandtrust.org
SUMMARY:Work Party - Lucy Hammer Woodland
DESCRIPTION:Lucy Hammer Woodland – We will return to the trail that runs along the top of the ridge\, which has become overgrown by Euonymus. Time and number of volunteers permitting\, we will clear the top of the dam and check the other trails. Meet at 9:00AM.
URL:https://branfordlandtrust.org/event/work-party-lucy-hammer-woodland/
LOCATION:Hammer Woodlands\, Cherry Hill Road\, Branford\, CT\, 06405\, United States
CATEGORIES:Work Party
ORGANIZER;CN="Branford Land Trust":MAILTO:info@branfordlandtrust.org
END:VEVENT
BEGIN:VEVENT
DTSTART;TZID=America/New_York:20191124T130000
DTEND;TZID=America/New_York:20191124T143000
DTSTAMP:20260421T044335
CREATED:20190927T094203Z
LAST-MODIFIED:20190927T094214Z
UID:3722-1574600400-1574605800@branfordlandtrust.org
SUMMARY:Annual Pre-Thanksgiving Walk
DESCRIPTION:Join the us for our traditional pre-Thanksgiving hike at Van Wie Woods\, exploring fields\, woodlands\, streams\, and granite outcrops of the 100 acres donated by two generations of the Van Wie family. Led by Land Trust Trustees and Advisory Board members\, this is a great opportunity to enjoy the outdoors and refreshing fall weather with friends and family. Watch for details!
URL:https://branfordlandtrust.org/event/annual-pre-thanksgiving-walk/
LOCATION:Van Wie Woods\, 87 Red Hill Road\, Branford\, CT\, 06405\, United States
CATEGORIES:Event
ORGANIZER;CN="Branford Land Trust":MAILTO:info@branfordlandtrust.org
END:VEVENT
END:VCALENDAR