BEGIN:VCALENDAR
VERSION:2.0
PRODID:-//Branford Land Trust - ECPv6.15.20//NONSGML v1.0//EN
CALSCALE:GREGORIAN
METHOD:PUBLISH
X-WR-CALNAME:Branford Land Trust
X-ORIGINAL-URL:https://branfordlandtrust.org
X-WR-CALDESC:Events for Branford Land Trust
REFRESH-INTERVAL;VALUE=DURATION:PT1H
X-Robots-Tag:noindex
X-PUBLISHED-TTL:PT1H
BEGIN:VTIMEZONE
TZID:America/New_York
BEGIN:DAYLIGHT
TZOFFSETFROM:-0500
TZOFFSETTO:-0400
TZNAME:EDT
DTSTART:20220313T070000
END:DAYLIGHT
BEGIN:STANDARD
TZOFFSETFROM:-0400
TZOFFSETTO:-0500
TZNAME:EST
DTSTART:20221106T060000
END:STANDARD
BEGIN:DAYLIGHT
TZOFFSETFROM:-0500
TZOFFSETTO:-0400
TZNAME:EDT
DTSTART:20230312T070000
END:DAYLIGHT
BEGIN:STANDARD
TZOFFSETFROM:-0400
TZOFFSETTO:-0500
TZNAME:EST
DTSTART:20231105T060000
END:STANDARD
BEGIN:DAYLIGHT
TZOFFSETFROM:-0500
TZOFFSETTO:-0400
TZNAME:EDT
DTSTART:20240310T070000
END:DAYLIGHT
BEGIN:STANDARD
TZOFFSETFROM:-0400
TZOFFSETTO:-0500
TZNAME:EST
DTSTART:20241103T060000
END:STANDARD
END:VTIMEZONE
BEGIN:VEVENT
DTSTART;TZID=America/New_York:20230513T090000
DTEND;TZID=America/New_York:20230513T110000
DTSTAMP:20260421T004935
CREATED:20230324T104638Z
LAST-MODIFIED:20230417T092034Z
UID:5148-1683968400-1683975600@branfordlandtrust.org
SUMMARY:Annual Mother’s Day  Weekend Bird Walks
DESCRIPTION:Local birder Chris Woerner will lead these popular walks along the Stony Creek Trolley Trail and into the BLT’s Vedder property to help identify birds by sight and by call. We’ll meet in Stony Creek at the end of West Point Road across from Willoughby Wallace Library. Families are welcome\, but no dogs please.
URL:https://branfordlandtrust.org/event/annual-mothers-day-weekend-bird-walks/
LOCATION:Stony Creek Trolley Trail\, West Point Road\, Branford\, CT\, 06405\, United States
CATEGORIES:Event
END:VEVENT
END:VCALENDAR