BEGIN:VCALENDAR
VERSION:2.0
PRODID:-//Branford Land Trust - ECPv6.15.20//NONSGML v1.0//EN
CALSCALE:GREGORIAN
METHOD:PUBLISH
X-ORIGINAL-URL:https://branfordlandtrust.org
X-WR-CALDESC:Events for Branford Land Trust
REFRESH-INTERVAL;VALUE=DURATION:PT1H
X-Robots-Tag:noindex
X-PUBLISHED-TTL:PT1H
BEGIN:VTIMEZONE
TZID:America/New_York
BEGIN:DAYLIGHT
TZOFFSETFROM:-0500
TZOFFSETTO:-0400
TZNAME:EDT
DTSTART:20220313T070000
END:DAYLIGHT
BEGIN:STANDARD
TZOFFSETFROM:-0400
TZOFFSETTO:-0500
TZNAME:EST
DTSTART:20221106T060000
END:STANDARD
BEGIN:DAYLIGHT
TZOFFSETFROM:-0500
TZOFFSETTO:-0400
TZNAME:EDT
DTSTART:20230312T070000
END:DAYLIGHT
BEGIN:STANDARD
TZOFFSETFROM:-0400
TZOFFSETTO:-0500
TZNAME:EST
DTSTART:20231105T060000
END:STANDARD
BEGIN:DAYLIGHT
TZOFFSETFROM:-0500
TZOFFSETTO:-0400
TZNAME:EDT
DTSTART:20240310T070000
END:DAYLIGHT
BEGIN:STANDARD
TZOFFSETFROM:-0400
TZOFFSETTO:-0500
TZNAME:EST
DTSTART:20241103T060000
END:STANDARD
END:VTIMEZONE
BEGIN:VEVENT
DTSTART;TZID=America/New_York:20230422T090000
DTEND;TZID=America/New_York:20230422T120000
DTSTAMP:20260420T231642
CREATED:20230324T104235Z
LAST-MODIFIED:20230417T091947Z
UID:5144-1682154000-1682164800@branfordlandtrust.org
SUMMARY:Saturday Work Party: Johnson Point
DESCRIPTION:Heading back out to Johnson’s Point again for April 2023! We aim to continue our work here primarily removing invasive species that have sprawled along the roadsides. Multiflora rose\, Asiatic bittersweet\, and burning bush were most prevalent last year. Chinese silvergrass was also observed spreading into the high marsh area as well. We will use manual methods to remove or mitigate the spread of these plants during this work party. Click here for more information.
URL:https://branfordlandtrust.org/event/saturday-work-party/
LOCATION:CT
CATEGORIES:Work Party
END:VEVENT
END:VCALENDAR