BEGIN:VCALENDAR
VERSION:2.0
PRODID:-//Branford Land Trust - ECPv6.15.20//NONSGML v1.0//EN
CALSCALE:GREGORIAN
METHOD:PUBLISH
X-WR-CALNAME:Branford Land Trust
X-ORIGINAL-URL:https://branfordlandtrust.org
X-WR-CALDESC:Events for Branford Land Trust
REFRESH-INTERVAL;VALUE=DURATION:PT1H
X-Robots-Tag:noindex
X-PUBLISHED-TTL:PT1H
BEGIN:VTIMEZONE
TZID:America/New_York
BEGIN:DAYLIGHT
TZOFFSETFROM:-0500
TZOFFSETTO:-0400
TZNAME:EDT
DTSTART:20220313T070000
END:DAYLIGHT
BEGIN:STANDARD
TZOFFSETFROM:-0400
TZOFFSETTO:-0500
TZNAME:EST
DTSTART:20221106T060000
END:STANDARD
BEGIN:DAYLIGHT
TZOFFSETFROM:-0500
TZOFFSETTO:-0400
TZNAME:EDT
DTSTART:20230312T070000
END:DAYLIGHT
BEGIN:STANDARD
TZOFFSETFROM:-0400
TZOFFSETTO:-0500
TZNAME:EST
DTSTART:20231105T060000
END:STANDARD
BEGIN:DAYLIGHT
TZOFFSETFROM:-0500
TZOFFSETTO:-0400
TZNAME:EDT
DTSTART:20240310T070000
END:DAYLIGHT
BEGIN:STANDARD
TZOFFSETFROM:-0400
TZOFFSETTO:-0500
TZNAME:EST
DTSTART:20241103T060000
END:STANDARD
END:VTIMEZONE
BEGIN:VEVENT
DTSTART;TZID=America/New_York:20230415T103000
DTEND;TZID=America/New_York:20230415T133000
DTSTAMP:20260420T231607
CREATED:20230324T104514Z
LAST-MODIFIED:20230324T104514Z
UID:5146-1681554600-1681565400@branfordlandtrust.org
SUMMARY:EARTH DAY FAIR & Branford Clean-up Day
DESCRIPTION:Visit our tent at the Earth Day Fair on the Branford Green\, sponsored by the Town of Branford and Living Wisely & Well on Planet Earth. There will be exhibits\, swaps and giveaways\, activities for kids and more. There will be collection dumpsters for those participating in Branford Clean-up Day.
URL:https://branfordlandtrust.org/event/earth-day-fair-branford-clean-up-day/
LOCATION:Branford Green\, Town Hall Drive\, Branford\, CT\, 06405\, United States
CATEGORIES:Event
END:VEVENT
END:VCALENDAR