BEGIN:VCALENDAR
VERSION:2.0
PRODID:-//Branford Land Trust - ECPv6.15.20//NONSGML v1.0//EN
CALSCALE:GREGORIAN
METHOD:PUBLISH
X-WR-CALNAME:Branford Land Trust
X-ORIGINAL-URL:https://branfordlandtrust.org
X-WR-CALDESC:Events for Branford Land Trust
REFRESH-INTERVAL;VALUE=DURATION:PT1H
X-Robots-Tag:noindex
X-PUBLISHED-TTL:PT1H
BEGIN:VTIMEZONE
TZID:America/New_York
BEGIN:DAYLIGHT
TZOFFSETFROM:-0500
TZOFFSETTO:-0400
TZNAME:EDT
DTSTART:20220313T070000
END:DAYLIGHT
BEGIN:STANDARD
TZOFFSETFROM:-0400
TZOFFSETTO:-0500
TZNAME:EST
DTSTART:20221106T060000
END:STANDARD
BEGIN:DAYLIGHT
TZOFFSETFROM:-0500
TZOFFSETTO:-0400
TZNAME:EDT
DTSTART:20230312T070000
END:DAYLIGHT
BEGIN:STANDARD
TZOFFSETFROM:-0400
TZOFFSETTO:-0500
TZNAME:EST
DTSTART:20231105T060000
END:STANDARD
BEGIN:DAYLIGHT
TZOFFSETFROM:-0500
TZOFFSETTO:-0400
TZNAME:EDT
DTSTART:20240310T070000
END:DAYLIGHT
BEGIN:STANDARD
TZOFFSETFROM:-0400
TZOFFSETTO:-0500
TZNAME:EST
DTSTART:20241103T060000
END:STANDARD
END:VTIMEZONE
BEGIN:VEVENT
DTSTART;TZID=America/New_York:20230225T090000
DTEND;TZID=America/New_York:20230225T120000
DTSTAMP:20260420T201231
CREATED:20230201T125831Z
LAST-MODIFIED:20230201T125831Z
UID:5103-1677315600-1677326400@branfordlandtrust.org
SUMMARY:Saturday Work Party: Hillside Avenue/Hillside Park
DESCRIPTION:Saturday February 25\, 2023\, 9:00am-12:00pm\, Hillside Avenue/Hillside Park Parcel \nA joint project between the Branford Land Trust and the Town of Branford’s Conservation Commission.  This roughly 10-acre parcel sits just north of the town green and is surrounded by developments on all sides.  As such\, reports of dumping\, encroachments\, and invasive species (especially English ivy) have been observed over the recent years.  \nDuring a recent visit\, much of the southern half of the property is infested with invasive species including dense monocultures of winged euonymus\, verdant carpets of English ivy\, and occasional patches of multiflora rose\, tree of heaven\, lesser celandine\, Japanese barberry\, and Japanese knotweed.  Given how well established these plants have become\, we hope to commit part of the day towards eradicating plants in manageable areas to control the spread. We also plan to spend part of the day (or split up based on attendance) picking up litter. \nWhat to bring: hand pruners\, loppers\, gloves\, proper clothing/sturdy footwear.  I will bring extra hand tools\, a weed wrench\, plastic trash bags\, and paper leaf bags. \nWhere to park: there are a couple of public lots near the property: 23 Hillside Avenue and 19 Harrison Avenue.  From there walk north along Hillside Avenue\, near Green View Commons and Rosehill Apartments\, until you reach a small roundabout driveway.  The very northern end of Hillside Avenue is the public access point for this property.
URL:https://branfordlandtrust.org/event/saturday-work-party-hillside-avenue-hillside-park/
LOCATION:CT
CATEGORIES:Work Party
END:VEVENT
BEGIN:VEVENT
DTSTART;TZID=America/New_York:20230225T093000
DTEND;TZID=America/New_York:20230225T110000
DTSTAMP:20260420T201231
CREATED:20230111T132348Z
LAST-MODIFIED:20230111T132348Z
UID:5086-1677317400-1677322800@branfordlandtrust.org
SUMMARY:Branford Land Trust Winter Animal Tracking Classes
DESCRIPTION:Watch for details!
URL:https://branfordlandtrust.org/event/branford-land-trust-winter-animal-tracking-classes-2/
LOCATION:Lake Saltonstall Preserve\, Hosley Avenue\, Branford\, CT\, 06405\, United States
CATEGORIES:Event
END:VEVENT
END:VCALENDAR