BEGIN:VCALENDAR
VERSION:2.0
PRODID:-//Branford Land Trust - ECPv6.15.20//NONSGML v1.0//EN
CALSCALE:GREGORIAN
METHOD:PUBLISH
X-ORIGINAL-URL:https://branfordlandtrust.org
X-WR-CALDESC:Events for Branford Land Trust
REFRESH-INTERVAL;VALUE=DURATION:PT1H
X-Robots-Tag:noindex
X-PUBLISHED-TTL:PT1H
BEGIN:VTIMEZONE
TZID:America/New_York
BEGIN:DAYLIGHT
TZOFFSETFROM:-0500
TZOFFSETTO:-0400
TZNAME:EDT
DTSTART:20210314T070000
END:DAYLIGHT
BEGIN:STANDARD
TZOFFSETFROM:-0400
TZOFFSETTO:-0500
TZNAME:EST
DTSTART:20211107T060000
END:STANDARD
BEGIN:DAYLIGHT
TZOFFSETFROM:-0500
TZOFFSETTO:-0400
TZNAME:EDT
DTSTART:20220313T070000
END:DAYLIGHT
BEGIN:STANDARD
TZOFFSETFROM:-0400
TZOFFSETTO:-0500
TZNAME:EST
DTSTART:20221106T060000
END:STANDARD
BEGIN:DAYLIGHT
TZOFFSETFROM:-0500
TZOFFSETTO:-0400
TZNAME:EDT
DTSTART:20230312T070000
END:DAYLIGHT
BEGIN:STANDARD
TZOFFSETFROM:-0400
TZOFFSETTO:-0500
TZNAME:EST
DTSTART:20231105T060000
END:STANDARD
END:VTIMEZONE
BEGIN:VEVENT
DTSTART;TZID=America/New_York:20221204T130000
DTEND;TZID=America/New_York:20221204T143000
DTSTAMP:20260420T170504
CREATED:20221121T100050Z
LAST-MODIFIED:20221121T100050Z
UID:5056-1670158800-1670164200@branfordlandtrust.org
SUMMARY:Annual Van Wie Walk
DESCRIPTION:Join the Branford Land Trust on Sunday\, December 4 at 1:00 PM for this annual hike at Van Wie Woods\, exploring fields\, woodlands\, streams\, and granite outcrops of the 100 acres donated by two generations of the Van Wie family. The walk will be led by several local naturalists\, and it’s a great opportunity to enjoy the outdoors and refreshing fall weather with friends and family. \nWe’ll meet by the trailhead at 87 Red Hill Road. Directions: From Exit 56 on I-95\, go south on Leetes Island Rd. for 0.1 mile\, and turn left (east) onto Red Hill Rd. Proceed to #87\, which is on the right\, and park on the right side of the road or at the pull-off by the pond. \nThe full walk is approximately two miles long (90 minutes) and of moderate difficulty with two or three short steep stretches. Walkers will also have the option of a shorter (one mile) walk. Please wear appropriate dress and comfortable\, supportive walking shoes. Bring water. Walking sticks encouraged for the rocky and leafy terrain. The walk is good for kids as young as six or seven. Parents of younger children should use their discretion and be prepared to carry them for parts of the route.
URL:https://branfordlandtrust.org/event/annual-van-wie-walk/
LOCATION:Van Wie Woods\, 87 Red Hill Road\, Branford\, CT\, 06405\, United States
CATEGORIES:Event
END:VEVENT
END:VCALENDAR