BEGIN:VCALENDAR
VERSION:2.0
PRODID:-//Branford Land Trust - ECPv6.15.20//NONSGML v1.0//EN
CALSCALE:GREGORIAN
METHOD:PUBLISH
X-ORIGINAL-URL:https://branfordlandtrust.org
X-WR-CALDESC:Events for Branford Land Trust
REFRESH-INTERVAL;VALUE=DURATION:PT1H
X-Robots-Tag:noindex
X-PUBLISHED-TTL:PT1H
BEGIN:VTIMEZONE
TZID:America/New_York
BEGIN:DAYLIGHT
TZOFFSETFROM:-0500
TZOFFSETTO:-0400
TZNAME:EDT
DTSTART:20210314T070000
END:DAYLIGHT
BEGIN:STANDARD
TZOFFSETFROM:-0400
TZOFFSETTO:-0500
TZNAME:EST
DTSTART:20211107T060000
END:STANDARD
BEGIN:DAYLIGHT
TZOFFSETFROM:-0500
TZOFFSETTO:-0400
TZNAME:EDT
DTSTART:20220313T070000
END:DAYLIGHT
BEGIN:STANDARD
TZOFFSETFROM:-0400
TZOFFSETTO:-0500
TZNAME:EST
DTSTART:20221106T060000
END:STANDARD
BEGIN:DAYLIGHT
TZOFFSETFROM:-0500
TZOFFSETTO:-0400
TZNAME:EDT
DTSTART:20230312T070000
END:DAYLIGHT
BEGIN:STANDARD
TZOFFSETFROM:-0400
TZOFFSETTO:-0500
TZNAME:EST
DTSTART:20231105T060000
END:STANDARD
END:VTIMEZONE
BEGIN:VEVENT
DTSTART;TZID=America/New_York:20220524T190000
DTEND;TZID=America/New_York:20220524T200000
DTSTAMP:20260420T050717
CREATED:20220516T140436Z
LAST-MODIFIED:20220516T140436Z
UID:4831-1653418800-1653422400@branfordlandtrust.org
SUMMARY:Horseshoe Crab Program
DESCRIPTION:Horseshoe Crab Program\nMay 24\, 2022 at 7:00 p.m.\nLoves Beach\, Killam’s Point Conference Center\n \nJoin this co-sponsored program with the First Congregational Church of Branford and the Branford Land Trust led by Martha Rice to learn about the ecology and importance of Horseshoe crabs in our lives today.  This program is open to the public\, but registration is required.  Please email info@killamspoint.org to register.
URL:https://branfordlandtrust.org/event/horseshoe-crab-program/
LOCATION:CT
CATEGORIES:Event
END:VEVENT
END:VCALENDAR