BEGIN:VCALENDAR
VERSION:2.0
PRODID:-//Branford Land Trust - ECPv6.15.20//NONSGML v1.0//EN
CALSCALE:GREGORIAN
METHOD:PUBLISH
X-WR-CALNAME:Branford Land Trust
X-ORIGINAL-URL:https://branfordlandtrust.org
X-WR-CALDESC:Events for Branford Land Trust
REFRESH-INTERVAL;VALUE=DURATION:PT1H
X-Robots-Tag:noindex
X-PUBLISHED-TTL:PT1H
BEGIN:VTIMEZONE
TZID:America/New_York
BEGIN:DAYLIGHT
TZOFFSETFROM:-0500
TZOFFSETTO:-0400
TZNAME:EDT
DTSTART:20190310T070000
END:DAYLIGHT
BEGIN:STANDARD
TZOFFSETFROM:-0400
TZOFFSETTO:-0500
TZNAME:EST
DTSTART:20191103T060000
END:STANDARD
BEGIN:DAYLIGHT
TZOFFSETFROM:-0500
TZOFFSETTO:-0400
TZNAME:EDT
DTSTART:20200308T070000
END:DAYLIGHT
BEGIN:STANDARD
TZOFFSETFROM:-0400
TZOFFSETTO:-0500
TZNAME:EST
DTSTART:20201101T060000
END:STANDARD
BEGIN:DAYLIGHT
TZOFFSETFROM:-0500
TZOFFSETTO:-0400
TZNAME:EDT
DTSTART:20210314T070000
END:DAYLIGHT
BEGIN:STANDARD
TZOFFSETFROM:-0400
TZOFFSETTO:-0500
TZNAME:EST
DTSTART:20211107T060000
END:STANDARD
END:VTIMEZONE
BEGIN:VEVENT
DTSTART;TZID=America/New_York:20200101T130000
DTEND;TZID=America/New_York:20200101T150000
DTSTAMP:20260421T033459
CREATED:20191220T121114Z
LAST-MODIFIED:20191220T121545Z
UID:3825-1577883600-1577890800@branfordlandtrust.org
SUMMARY:New Year's Day Hike
DESCRIPTION:Start off the New Year on the right foot! Join the Branford Land Trust on Wednesday\, January 1 at 1:00 PM for a hike at Van Wie Woods\, exploring fields\, woodlands\, streams\, and granite outcrops of the 100 acres donated by two generations of the Van Wie family. Led by local naturalists\, this is a great opportunity to enjoy the outdoors and refreshing fall weather with friends and family.
URL:https://branfordlandtrust.org/event/new-years-day-hike-3/
LOCATION:Van Wie Woods\, 87 Red Hill Road\, Branford\, CT\, 06405\, United States
CATEGORIES:Event
END:VEVENT
END:VCALENDAR